BEGIN:VCALENDAR
VERSION:2.0
PRODID:-//Nice Start(s) Up - ECPv6.15.20//NONSGML v1.0//EN
CALSCALE:GREGORIAN
METHOD:PUBLISH
X-ORIGINAL-URL:https://www.nicestartsup.fr
X-WR-CALDESC:Évènements pour Nice Start(s) Up
REFRESH-INTERVAL;VALUE=DURATION:PT1H
X-Robots-Tag:noindex
X-PUBLISHED-TTL:PT1H
BEGIN:VTIMEZONE
TZID:Europe/Paris
BEGIN:DAYLIGHT
TZOFFSETFROM:+0100
TZOFFSETTO:+0200
TZNAME:CEST
DTSTART:20230326T010000
END:DAYLIGHT
BEGIN:STANDARD
TZOFFSETFROM:+0200
TZOFFSETTO:+0100
TZNAME:CET
DTSTART:20231029T010000
END:STANDARD
BEGIN:DAYLIGHT
TZOFFSETFROM:+0100
TZOFFSETTO:+0200
TZNAME:CEST
DTSTART:20240331T010000
END:DAYLIGHT
BEGIN:STANDARD
TZOFFSETFROM:+0200
TZOFFSETTO:+0100
TZNAME:CET
DTSTART:20241027T010000
END:STANDARD
BEGIN:DAYLIGHT
TZOFFSETFROM:+0100
TZOFFSETTO:+0200
TZNAME:CEST
DTSTART:20250330T010000
END:DAYLIGHT
BEGIN:STANDARD
TZOFFSETFROM:+0200
TZOFFSETTO:+0100
TZNAME:CET
DTSTART:20251026T010000
END:STANDARD
END:VTIMEZONE
BEGIN:VEVENT
DTSTART;TZID=Europe/Paris:20241112T190000
DTEND;TZID=Europe/Paris:20241112T213000
DTSTAMP:20260420T200603
CREATED:20241007T194157Z
LAST-MODIFIED:20241021T131829Z
UID:2800-1731438000-1731447000@www.nicestartsup.fr
SUMMARY:Afterwork Cybersécurité
DESCRIPTION:𝑻𝒂𝒃𝒍𝒆 𝒓𝒐𝒏𝒅𝒆 𝒂𝒏𝒊𝒎𝒆́𝒆 𝒑𝒂𝒓 𝑳𝒖𝒅𝒐𝒗𝒊𝒄 𝑳𝑨𝑩𝑶𝑹𝑫𝑬 𝑯𝒂𝒄𝒌𝒆u𝒓 𝑬𝒕𝒉𝒊𝒒𝒖𝒆 \n𝑸𝑼𝑨𝑵𝑫 ? 🗓️ 𝑴𝒂𝒓𝒅𝒊 12 𝒏𝒐𝒗𝒆𝒎𝒃𝒓𝒆 ⌚️ 19𝒉 – 21𝒉30 |𝑶𝑼̀ ?📍 𝑫𝒂𝒏𝒔 𝒍’𝒂𝒎𝒑𝒉𝒊𝒕𝒉𝒆́𝒂̂𝒕𝒓𝒆 𝒅𝒆 𝒍𝒂 𝑩𝒂𝒏𝒒𝒖𝒆 𝑷𝒐𝒑𝒖𝒍𝒂𝒊𝒓𝒆 𝑴𝒆́𝒅𝒊𝒕𝒆𝒓𝒓𝒂𝒏𝒆́𝒆 – 457 𝑷𝒓𝒐𝒎. 𝒅𝒆𝒔 𝑨𝒏𝒈𝒍𝒂𝒊𝒔\, 06200 𝑵𝒊𝒄𝒆 \n🔐 Faire ses premiers premiers pas en cybersécurisation 🛡️ \n❓Comment amorcer concrètement la sécurisation de son système d’information 🤔 \n💪 Venez découvrir comment protéger vos données et anticiper les cyberattaques grâce aux conseils de nos experts ! \n✍️ Inscrivez-vous dès maintenant et faites de la cybersécurité un atout pour votre entreprise !
URL:https://www.nicestartsup.fr/evenement/afterwork-cybersecurite/
LOCATION:banque populaire mediterrannée\, 457 Promenade des Anglais\, Nice\, 06200
ATTACH;FMTTYPE=image/jpeg:https://www.nicestartsup.fr/wp-content/uploads/2024/10/Afterwork-cyber-1_2.jpg
END:VEVENT
END:VCALENDAR